BEGIN:VCALENDAR
VERSION:2.0
PRODID:-//Microsoft Corporation//Outlook 11.0 MIMEDIR//EN
METHOD:PUBLISH
BEGIN:VEVENT
CLASS:PUBLIC
DTSTAMP:20260419T134502Z
UID:12513-1776606302@towncommon.org
DTSTART:20260329T200000Z
DTEND:20260329T210000Z
SUMMARY:Winchester Girl Scouts - New Daisy Troop Information session
DESCRIPTION:Calling all K & 1st graders interested in trying Daisy Girl Scouts! 
 
 We are looking to start one or two new Daisy troops explicitly for K &
  1st graders who are interested but haven't yet had a chance to join
  Girl Scouts. The meetings will be run by our middle and high school
  Girl Scouts with familial adults helping chaperone. We'll have an
  interest meeting on Sunday\, March 29 at 4 PM at the First Baptist
  Church (90 Mt Vernon St) -- please RSVP to
  winchestergirlscouts@gmail.com so we have enough materials. For more
  information: https://bit.ly/4cSsWpS
LOCATION:First Baptist Church\, 90 Mt. Vernon Street\, Winchester\, MA 01890
URL:https://www.winchester.us/calendar.aspx?EID=12513
CATEGORIES:Education\,Family
END:VEVENT
END:VCALENDAR
