BEGIN:VCALENDAR
VERSION:2.0
PRODID:-//Microsoft Corporation//Outlook 11.0 MIMEDIR//EN
METHOD:PUBLISH
BEGIN:VEVENT
CLASS:PUBLIC
DTSTAMP:20260420T001323Z
UID:TCTF-1776644003@towncommon.org
DTSTART:20260315T190000Z
DTEND:20260315T210000Z
SUMMARY:Áine Minogue – Celtic Harpist
DESCRIPTION:Join Áine Minogue (Irish harp/vocals) as she celebrates St.
  Patrick’s day at Wright-Locke Farm.This Pan-Celtic odyssey is
  nothing less than an enchanting evening of music\, storytelling\, and
  tradition that is appropriate for all and designed to celebrate the
  more contemplative side of St. Patrick’s Day with a few toe-tappers
  thrown in for good measure.Áine will be playing selections from her
  many albums as well as Celtic favorites “King of the Faeries” and
  “The Butterfly” to joyously usher in the Spring.Tickets: $25
  (lower tier)\, $40 (base) and $50 (pay it forward).
LOCATION:Wright-Locke Farm\, 82 Ridge Street\, Winchester\, MA 01890
URL:https://wlfarm.org/aine-minogue-harpist/
IMAGE:https://findit.towncommon.org/sites/default/files/2026-03/Aine-Minogue
 _1-683x1024.jpg
CATEGORIES:Cultural
END:VEVENT
END:VCALENDAR
