BEGIN:VCALENDAR
VERSION:2.0
PRODID:-//Microsoft Corporation//Outlook 11.0 MIMEDIR//EN
METHOD:PUBLISH
BEGIN:VEVENT
CLASS:PUBLIC
DTSTAMP:20260419T210850Z
UID:10001218-1774710000-1774715400@www.winchestermusic.org-1776@towncommon.org
DTSTART:20260328T190000Z
DTEND:20260328T203000Z
SUMMARY:Guitar Dept. Jazz Jam
DESCRIPTION:Location: Nichols Hall
LOCATION:Winchester Community Music School\, 407 Highland Avenue\, Winchester\,
  MA 01890
URL:https://www.winchestermusic.org/event/guitar-dept-jazz-jam/
CATEGORIES:Cultural\,Education
END:VEVENT
END:VCALENDAR
