BEGIN:VCALENDAR
VERSION:2.0
PRODID:-//Microsoft Corporation//Outlook 11.0 MIMEDIR//EN
METHOD:PUBLISH
BEGIN:VEVENT
CLASS:PUBLIC
DTSTAMP:20260419T205832Z
UID:10001210-1773500400-1773505800@www.winchestermusic.org-1776@towncommon.org
DTSTART:20260314T190000Z
DTEND:20260314T203000Z
SUMMARY:Guitar Dept. Workshop
DESCRIPTION:Location: Nichols Hall
LOCATION:Winchester Community Music School\, 407 Highland Avenue\, Winchester\,
  MA 01890
URL:https://www.winchestermusic.org/event/guitar-dept-workshop-2/
CATEGORIES:Cultural\,Education
END:VEVENT
END:VCALENDAR
