BEGIN:VCALENDAR
VERSION:2.0
PRODID:-//Microsoft Corporation//Outlook 11.0 MIMEDIR//EN
METHOD:PUBLISH
BEGIN:VEVENT
CLASS:PUBLIC
DTSTAMP:20260419T121104Z
UID:72100956@parentsquare.com-1776600664@towncommon.org
DTSTART:20260226T000000Z
DTEND:20260226T013000Z
SUMMARY:Understanding Relationships: Recognizing Unhealthy Patterns and
  Fostering Healthy Connections
DESCRIPTION:The Winchester Coalition for a Safer Community presents Understanding
  Relationships: Recognizing Unhealthy Patterns and Fostering Healthy
  Connections | Wednesday\, February 25\, 2026\, 7:00 p.m. | Winchester
  Town Hall | Winchester Room | Speakers: Meredith Shaw and Ali Calnan
CATEGORIES:Family\,Health
END:VEVENT
END:VCALENDAR
