BEGIN:VCALENDAR
VERSION:2.0
PRODID:-//Microsoft Corporation//Outlook 11.0 MIMEDIR//EN
METHOD:PUBLISH
BEGIN:VEVENT
CLASS:PUBLIC
DTSTAMP:20260424T034005Z
UID:TCTF-1777002005@towncommon.org
DTSTART:20260209T133000Z
DTEND:20260209T133000Z
SUMMARY:Black History Project: Call for Entries — Win $250!
DESCRIPTION:As part of the Black History Project\, the Black Student Union (BSU)
  at Winchester High School is calling on all WHS students to submit
  original work that highlights specific events\, significant figures\,
  or cultural shifts within Black history. To encourage broad
  participation\, the contest accepts a wide array of media\,
  including:Visual Arts: 2D and 3D art\, posters\, and
  photography.Digital & Multimedia: Documentaries\, short films\,
  websites\, and music.Literary Works: Poetry\, essays\, and research
  papers.Cash prizes (awarded via Amazon gift cards) will be presented
  to the top three winners: $250 for first\, $150 for second\, and $100
  for third place.Deadline is February 9\, 2026\, at 8:30 AM.
  Submissions will be evaluated by a team of volunteer teachers\, with
  winners announced by February 4. This BSU initiative will culminate in
  a celebration of students’ work at a community showcase on
  Wednesday\, February 25\, 2026\, from 5:00 PM to 7:00 PM at the
  Griffin Museum of Photography.
URL:https://nfsj.org/
IMAGE:https://findit.towncommon.org/sites/default/files/2026-01/BHM%202026%2
 0contest%20deadline%20flyer_0.png
CATEGORIES:Cultural\,Education
END:VEVENT
END:VCALENDAR
