BEGIN:VCALENDAR
VERSION:2.0
PRODID:-//Microsoft Corporation//Outlook 11.0 MIMEDIR//EN
METHOD:PUBLISH
BEGIN:VEVENT
CLASS:PUBLIC
DTSTAMP:20260424T144523Z
UID:64758238@parentsquare.com-1777041923@towncommon.org
DTSTART:20251111T000000Z
DTEND:20251111T013000Z
SUMMARY:WinPAC Meet Up: Language Based Learning Disabilities
DESCRIPTION:Location: Large Meeting Room\, Winchester Library | Meet other parents
  and caregivers with students who have (or believe they may have)
  language-based learning disabilities such as dyslexia. This is a
  casual get together\, seeking to promote community and conversation. |
  Register Here:
  https://docs.google.com/forms/d/e/1FAIpQLSexEXy2ZQph0_DHeXRmqApnwl1TUY
 dhflULOeB8d0jpEWe-bg/viewform | Registration is optional and helpful.
CATEGORIES:Education
END:VEVENT
END:VCALENDAR
