BEGIN:VCALENDAR
VERSION:2.0
PRODID:-//Microsoft Corporation//Outlook 11.0 MIMEDIR//EN
METHOD:PUBLISH
BEGIN:VEVENT
CLASS:PUBLIC
DTSTAMP:20260420T013711Z
UID:10001288-1768587300-1768592700@www.winchestermusic.org-1776@towncommon.org
DTSTART:20260116T231500Z
DTEND:20260117T004500Z
SUMMARY:Jr. District Mock Audition Workshop
DESCRIPTION:Registration Deadline: January 11\, 2026 
 
 This workshop is for students in grades 6-9 trying out for the MMEA
  Junior District Festival. The workshop will provide a wealth of
  information about the audition process including how to prepare\,
  manage nerves\, and develop presentation skills. Students will divide
  into vocal and instrument groups to perform for adjudicators and
  receive constructive feedback on their solos and scales. 
 
 Open to all singers and instrumentalists\; you do not have to be a
  WCMS student to participate. 
 
 Participants should confirm the MMEA grade level requirements for
  their instrument before enrolling. 
 
 $30 per participant\; register by January 11. 
 
 Register Online
LOCATION:Winchester Community Music School\, 407 Highland Avenue\, Winchester\,
  MA 01890
URL:https://www.winchestermusic.org/event/jr-district-mock-audition-worksh
 op-4/
CATEGORIES:Cultural\,Education
END:VEVENT
END:VCALENDAR
