BEGIN:VCALENDAR
VERSION:2.0
PRODID:-//Microsoft Corporation//Outlook 11.0 MIMEDIR//EN
METHOD:PUBLISH
BEGIN:VEVENT
CLASS:PUBLIC
DTSTAMP:20260425T004407Z
UID:junk-journaling-for-teens@winpublib.assabetinteractive.com-@towncommon.org
DTSTART:20260126T210000Z
DTEND:20260126T220000Z
SUMMARY:Junk Journaling for Teens
DESCRIPTION:This event is for students in grades 6-12. No adults\, please. Junk
  journaling is a method of journal-keeping that primarily uses found
  and recycled materials to record and collect thoughts\, memories\, and
  inspiration! This program will give you an overview of common
  techniques and provide inspiration before you get to work on your own
  journals.
LOCATION:Winchester Public Library\, 80 Washington Street\, Winchester\, MA
  01890
URL:https://winpublib.assabetinteractive.com/calendar/junk-journaling-for-
 teens/
CATEGORIES:Cultural\,Education
END:VEVENT
END:VCALENDAR
