BEGIN:VCALENDAR
VERSION:2.0
PRODID:-//Microsoft Corporation//Outlook 11.0 MIMEDIR//EN
METHOD:PUBLISH
BEGIN:VEVENT
CLASS:PUBLIC
DTSTAMP:20260424T075808Z
UID:12246-1777017488@towncommon.org
DTSTART:20260108T150000Z
DTEND:20260109T045900Z
SUMMARY:Disability Access Committee
DESCRIPTION:Agenda at
  https://www.winchester.us/AgendaCenter/DISABILITY-ACCESS-COMMISSION-TO
 WN-CLERKS-36/?#_01082026-6808
LOCATION:REMOTE PARTICIPATION VIA
  ZOOMhttps://us02web.zoom.us/j/86573623367?from=addon Meeting ID: 865
  7362 3367
URL:https://www.winchester.us/calendar.aspx?EID=12246
CATEGORIES:Government
END:VEVENT
END:VCALENDAR
