BEGIN:VCALENDAR
VERSION:2.0
PRODID:-//Microsoft Corporation//Outlook 11.0 MIMEDIR//EN
METHOD:PUBLISH
BEGIN:VEVENT
CLASS:PUBLIC
DTSTAMP:20260419T134415Z
UID:12244-1776606255@towncommon.org
DTSTART:20260122T000000Z
DTEND:20260122T020000Z
SUMMARY:Winchester Coalition Presents Sexploitation: Helping Kids Develop
  Healthy Sexuality in a Porn-Driven World by Cindy Pierce
DESCRIPTION:
LOCATION:Winchester Town Hall\, 71 Mt. Vernon Street\, Winchester\, MA 01890
URL:https://www.winchester.us/calendar.aspx?EID=12244
IMAGE:https://www.winchester.us/calendar/Sexploitation%20(1)%20(002).jpg
CATEGORIES:Family\,Health
END:VEVENT
END:VCALENDAR
