BEGIN:VCALENDAR
VERSION:2.0
PRODID:-//Microsoft Corporation//Outlook 11.0 MIMEDIR//EN
METHOD:PUBLISH
BEGIN:VEVENT
CLASS:PUBLIC
DTSTAMP:20260419T175843Z
UID:office-hours-senator-lewis-17@winpublib.assabetinteractive.@towncommon.org
DTSTART:20260105T153000Z
DTEND:20260105T163000Z
SUMMARY:Office Hours - Senator Lewis
DESCRIPTION:Office Hours - Senator Lewis
LOCATION:Winchester Public Library\, 80 Washington Street\, Winchester\, MA
  01890
URL:https://winpublib.assabetinteractive.com/calendar/office-hours-senator
 -lewis-17/
CATEGORIES:Cultural\,Education\,Community
END:VEVENT
END:VCALENDAR
