BEGIN:VCALENDAR
VERSION:2.0
PRODID:-//Microsoft Corporation//Outlook 11.0 MIMEDIR//EN
METHOD:PUBLISH
BEGIN:VEVENT
CLASS:PUBLIC
DTSTAMP:20260424T075741Z
UID:10001176-1765720800-1765724400@www.winchestermusic.org-1777@towncommon.org
DTSTART:20251214T190000Z
DTEND:20251214T200000Z
SUMMARY:Family Concert: Brazilian Serenade
DESCRIPTION:Join WCMS for a family-friendly afternoon program of Brazilian choro
  music from the 1940s and 50s\, performed by a talented trio of
  musicians. Experience the soulful rhythms that inspired the Bossa
  Nova\, along with captivating original compositions. 
 
 Featuring: 
 
 WCMS fauclty member Maurice Cahen\, guitar
 
 Ricardo Frota\, violin & percussion
 
 Andrea Pejrolo\, bass
 
 Free admission--all are welcome. Please consider bringing a new or
  gently used children's clothing item to donate to Cradles to Crayons'
  Gear Up for Winter drive. A donation box will be in the WCMS lobby
  December 1-14. 
 
 Held live in Nichols Performance Hall at WCMS and streamed live on our
  YouTube channel.
LOCATION:Winchester Community Music School\, 407 Highland Avenue\, Winchester\,
  MA 01890
URL:https://www.winchestermusic.org/event/family-concert-brazilian-serenad
 e/
CATEGORIES:Cultural\,Education
END:VEVENT
END:VCALENDAR
