BEGIN:VCALENDAR
VERSION:2.0
PRODID:-//Microsoft Corporation//Outlook 11.0 MIMEDIR//EN
METHOD:PUBLISH
BEGIN:VEVENT
CLASS:PUBLIC
DTSTAMP:20260425T123016Z
UID:12167-1777120216@towncommon.org
DTSTART:20251126T000000Z
DTEND:20251126T045900Z
SUMMARY:Conservation Commission- Meeting Notice and Agenda 1
DESCRIPTION:Agenda at
  https://www.winchester.us/AgendaCenter/CONSERVATION-COMMISSION-TOWN-CL
 ERKS-OFFI-19/?#_11252025-6751
LOCATION:Winchester Town Hall\, 71 Mt. Vernon Street\, Winchester\, MA 01890
URL:https://www.winchester.us/calendar.aspx?EID=12167
CATEGORIES:Government\,Environment
END:VEVENT
END:VCALENDAR
