BEGIN:VCALENDAR
VERSION:2.0
PRODID:-//Microsoft Corporation//Outlook 11.0 MIMEDIR//EN
METHOD:PUBLISH
BEGIN:VEVENT
CLASS:PUBLIC
DTSTAMP:20260425T005339Z
UID:63815133@parentsquare.com-1777078419@towncommon.org
DTSTART:20260325T223000Z
DTEND:20260325T233000Z
SUMMARY:Event: Transition to Kindergarten
DESCRIPTION:Hosted by Parent to Parent WinchesterLocation: Lynch Elementary
  School\, 10 Brantwood Road\, Winchester\, MA 01890
CATEGORIES:Education
END:VEVENT
END:VCALENDAR
