BEGIN:VCALENDAR
VERSION:2.0
PRODID:-//Microsoft Corporation//Outlook 11.0 MIMEDIR//EN
METHOD:PUBLISH
BEGIN:VEVENT
CLASS:PUBLIC
DTSTAMP:20260424T145451Z
UID:63801307@parentsquare.com-1777042491@towncommon.org
DTSTART:20251104T000000Z
DTEND:20251104T000000Z
SUMMARY:No School: WPS Staff Professional Development
DESCRIPTION:
CATEGORIES:Education
END:VEVENT
END:VCALENDAR
