BEGIN:VCALENDAR
VERSION:2.0
PRODID:-//Microsoft Corporation//Outlook 11.0 MIMEDIR//EN
METHOD:PUBLISH
BEGIN:VEVENT
CLASS:PUBLIC
DTSTAMP:20260419T193126Z
UID:toastmasters-210@winpublib.assabetinteractive.com-177662708@towncommon.org
DTSTART:20251203T000000Z
DTEND:20251203T013000Z
SUMMARY:Toastmasters
DESCRIPTION:Toastmasters meeting.
LOCATION:Winchester Public Library\, 80 Washington Street\, Winchester\, MA
  01890
URL:https://winpublib.assabetinteractive.com/calendar/toastmasters-210/
CATEGORIES:Cultural\,Education\,Community
END:VEVENT
END:VCALENDAR
