BEGIN:VCALENDAR
VERSION:2.0
PRODID:-//Microsoft Corporation//Outlook 11.0 MIMEDIR//EN
METHOD:PUBLISH
BEGIN:VEVENT
CLASS:PUBLIC
DTSTAMP:20260420T014408Z
UID:10001182-1763305200-1763312400@www.winchestermusic.org-1776@towncommon.org
DTSTART:20251116T200000Z
DTEND:20251116T220000Z
SUMMARY:Dalcroze Lab for Adult Learners
DESCRIPTION:Whether you are an experienced Dalcroze clinician or a music educator
  interested in learning about the Dalcroze approach\, we invite you to
  bring your ideas and try out activities guided by an expert Dalcroze
  clinician. Participants should bring a teaching activity to share with
  the group\, if possible. Workshop fee: $15. You can also join on Zoom.
 
 Facilitated by Dalcroze faculty member Adriana Ausch-Simmel. 
 
 Register Online
LOCATION:Winchester Community Music School\, 407 Highland Avenue\, Winchester\,
  MA 01890
URL:https://www.winchestermusic.org/event/dalcroze-lab-for-adult-learners-
 2/
CATEGORIES:Cultural\,Education
END:VEVENT
END:VCALENDAR
