BEGIN:VCALENDAR
VERSION:2.0
PRODID:-//Microsoft Corporation//Outlook 11.0 MIMEDIR//EN
METHOD:PUBLISH
BEGIN:VEVENT
CLASS:PUBLIC
DTSTAMP:20260420T014228Z
UID:10001129-1762539300-1762544700@www.winchestermusic.org-1776@towncommon.org
DTSTART:20251107T231500Z
DTEND:20251108T004500Z
SUMMARY:String Department Workshop: Fiddling with Molly Tucker
DESCRIPTION:Are you a string player who is curious about the art of fiddling?
  Whether you're brand new to fiddling or have explored this art form
  before\, this workshop is for you! In this 90-minute session\, WCMS
  teaching artist Molly Tucker will lead participants through learning a
  fiddle tune and exploring what styling can make your playing sound
  like fiddle playing. The group will also explore chordal and rhythmic
  ideas to bring the tune to life in their own way. 
 
 This workshop is open to all intermediate-to-advanced string players.
  Participants should be able to play two-octave G and A Major scales\,
  and should be playing at least at the end of Suzuki Book 1 or the
  equivalent. 
 
 Free for WCMS students\; $15 for the general public. 
 
 Register Online (WCMS students) 
 
 Register Online (general public)
LOCATION:Winchester Community Music School\, 407 Highland Avenue\, Winchester\,
  MA 01890
URL:https://www.winchestermusic.org/event/string-department-workshop-fiddl
 ing/
CATEGORIES:Cultural\,Education
END:VEVENT
END:VCALENDAR
