BEGIN:VCALENDAR
VERSION:2.0
PRODID:-//Microsoft Corporation//Outlook 11.0 MIMEDIR//EN
METHOD:PUBLISH
BEGIN:VEVENT
CLASS:PUBLIC
DTSTAMP:20260420T013856Z
UID:10001151-1762099200-1762102800@www.winchestermusic.org-1776@towncommon.org
DTSTART:20251102T210000Z
DTEND:20251102T220000Z
SUMMARY:Faculty Concert: Fiddle Traditions
DESCRIPTION:A Celebration of Toe-Tapping Fiddle Tunes 
 
 WCMS faculty member Molly Tucker and guest artist Casey Murray will
  present a concert of original and traditional fiddle tunes in the New
  England\, Celtic\, and Old Time styles. As dance musicians\, they will
  share toe-tapping tunes that inspire movement and joy\, in addition to
  songs they love and original compositions. 
 
 Free admission--all are welcome. A $20 suggested donation supports our
  concerts and performers. Held live in Nichols Performance Hall at WCMS
  and streamed live on our YouTube and Facebook channels.
LOCATION:Winchester Community Music School\, 407 Highland Avenue\, Winchester\,
  MA 01890
URL:https://www.winchestermusic.org/event/faculty-concert-fiddle-tradition
 s/
CATEGORIES:Cultural\,Education
END:VEVENT
END:VCALENDAR
