BEGIN:VCALENDAR
VERSION:2.0
PRODID:-//Microsoft Corporation//Outlook 11.0 MIMEDIR//EN
METHOD:PUBLISH
BEGIN:VEVENT
CLASS:PUBLIC
DTSTAMP:20260419T161858Z
UID:friends-of-the-library-meeting-48@winpublib.assabetinteract@towncommon.org
DTSTART:20251121T000000Z
DTEND:20251121T010000Z
SUMMARY:Friends of the Library meeting
DESCRIPTION:Regular monthly meeting of the Friends of the Winchester Public
  Library.
LOCATION:Winchester Public Library\, 80 Washington Street\, Winchester\, MA
  01890
URL:https://winpublib.assabetinteractive.com/calendar/friends-of-the-libra
 ry-meeting-48/
CATEGORIES:Cultural\,Education\,Community
END:VEVENT
END:VCALENDAR
