BEGIN:VCALENDAR
VERSION:2.0
PRODID:-//Microsoft Corporation//Outlook 11.0 MIMEDIR//EN
METHOD:PUBLISH
BEGIN:VEVENT
CLASS:PUBLIC
DTSTAMP:20260419T194155Z
UID:toastmasters-197@winpublib.assabetinteractive.com-177662771@towncommon.org
DTSTART:20251119T000000Z
DTEND:20251119T013000Z
SUMMARY:Toastmasters
DESCRIPTION:Toastmasters meeting.
LOCATION:Winchester Public Library\, 80 Washington Street\, Winchester\, MA
  01890
URL:https://winpublib.assabetinteractive.com/calendar/toastmasters-197/
CATEGORIES:Cultural\,Education\,Community
END:VEVENT
END:VCALENDAR
