BEGIN:VCALENDAR
VERSION:2.0
PRODID:-//Microsoft Corporation//Outlook 11.0 MIMEDIR//EN
METHOD:PUBLISH
BEGIN:VEVENT
CLASS:PUBLIC
DTSTAMP:20260420T014103Z
UID:10001126-1761404400-1761409800@www.winchestermusic.org-1776@towncommon.org
DTSTART:20251025T190000Z
DTEND:20251025T203000Z
SUMMARY:Inspiration\, Process & Craft: Songwriting Workshop with Rachel Sumner
DESCRIPTION:This 90-minute workshop is for any musician who wants to explore
  songwriting for the first time or expand on their existing songwriting
  skills. Award-winning singer-songwriter Rachel Sumner will offer
  participants a look into her own creative process: where she finds
  inspiration\, how she transforms a creative spark into a song\, and
  more. Participants will also learn specific strategies for editing\,
  deep listening\, and using familiar songs as jumping-off points for
  their own original compositions. 
 
 Learn more about Rachel Sumner! 
 
 Open to ages 14 and up. Free for WCMS students\; $15 for the general
  public. 
 
 Advance registration is required. 
 
 Register Online (WCMS students) 
 
 Register Online (general public)
LOCATION:Winchester Community Music School\, 407 Highland Avenue\, Winchester\,
  MA 01890
URL:https://www.winchestermusic.org/event/guitar-dept-workshop/
CATEGORIES:Cultural\,Education
END:VEVENT
END:VCALENDAR
