BEGIN:VCALENDAR
VERSION:2.0
PRODID:-//Microsoft Corporation//Outlook 11.0 MIMEDIR//EN
METHOD:PUBLISH
BEGIN:VEVENT
CLASS:PUBLIC
DTSTAMP:20260419T210045Z
UID:10001159-1760781600-1760785200@www.winchestermusic.org-1776@towncommon.org
DTSTART:20251018T140000Z
DTEND:20251018T150000Z
SUMMARY:Halloween Pick-up Band for Winchester's Trunk or Treat
DESCRIPTION:We're looking for woodwind\, brass\, percussion\, ukulele\, guitar\,
  bass and other instrumentalists to play spooky themed music to kick
  off this fun town-wide event. No marching is required - we'll play
  standing in place. Costumes are welcome. This event takes place in the
  Jenks Center parking lot\, across from Town Hall. We'll meet at 10:00
  AM in the parking lot for a quick run through rehearsal and play at
  10:30 AM. Pick up your music parts in the front office once you've
  signed up to perform. 
 
 Sign up here! 
 
 Have Questions? Email us at wcms@winchestermusic.org
LOCATION:Winchester Community Music School\, 407 Highland Avenue\, Winchester\,
  MA 01890
URL:https://www.winchestermusic.org/event/halloween-pick-up-band-for-winch
 esters-trunk-or-treat-2/
CATEGORIES:Cultural\,Education
END:VEVENT
END:VCALENDAR
