BEGIN:VCALENDAR
VERSION:2.0
PRODID:-//Microsoft Corporation//Outlook 11.0 MIMEDIR//EN
METHOD:PUBLISH
BEGIN:VEVENT
CLASS:PUBLIC
DTSTAMP:20260424T075806Z
UID:11992-1777017486@towncommon.org
DTSTART:20250926T130000Z
DTEND:20250926T140000Z
SUMMARY:STATE OF THE TOWN-Select Board/School Committee/Capital Planning
  Committee
DESCRIPTION:This meeting is in person and Hybrid\, below is the Zoom information
  to sign in. To register in advance for this meeting\, copy and paste
  below link into your browser. 
 
 https://us02web.zoom.us/meeting/register/CXSWEwq6QNqn3BKHsYmXdA 
 
 Agenda at
  https://www.winchester.us/AgendaCenter/STATE-OF-THE-TOWNTOWN-CLERK-OFF
 ICE-91/?#_09262025-6599
LOCATION:Winchester Town Hall\, 71 Mt. Vernon Street\, Winchester\, MA 01890
URL:https://www.winchester.us/calendar.aspx?EID=11992
CATEGORIES:Government\,Education
END:VEVENT
END:VCALENDAR
