BEGIN:VCALENDAR
VERSION:2.0
PRODID:-//Microsoft Corporation//Outlook 11.0 MIMEDIR//EN
METHOD:PUBLISH
BEGIN:VEVENT
CLASS:PUBLIC
DTSTAMP:20260425T004850Z
UID:10001111-1757253600-1757260800@www.winchestermusic.org-1777@towncommon.org
DTSTART:20250907T180000Z
DTEND:20250907T200000Z
SUMMARY:Ensemble Auditions
DESCRIPTION:No matter what instrument you play\, we probably have an ensemble for
  you! 
 
 Ensembles at WCMS offer opportunities for students to be mentored by
  professional faculty members\, play with other musicians\, understand
  the roles of different band members\, and perform in front of an
  audience. By connecting with other like-minded creative individuals\,
  you'll cultivate relationships and develop your personal musical
  expression. Each ensemble will be curated by matching the level\,
  age\, and skill of the musicians\, and scheduled based on the
  availability of coaches and participants. 
 
 Learn more about our ensembles and bands and click below to sign up
  for an audition time slot on September 7. 
 
 Chamber Music Auditions
 
 Rock\, Jazz\, and Bluegrass Auditions
 
 Please note that Village Band\, Jenks Recorder Ensemble\, and Steel
  Drum Ensemble do not require auditions (see descriptions for details).
LOCATION:Winchester Community Music School\, 407 Highland Avenue\, Winchester\,
  MA 01890
URL:https://www.winchestermusic.org/event/ensemble-auditions-3/
CATEGORIES:Cultural\,Education
END:VEVENT
END:VCALENDAR
