BEGIN:VCALENDAR
VERSION:2.0
PRODID:-//Microsoft Corporation//Outlook 11.0 MIMEDIR//EN
METHOD:PUBLISH
BEGIN:VEVENT
CLASS:PUBLIC
DTSTAMP:20260420T044312Z
UID:10001145-1757159100-1757161800@www.winchestermusic.org-1776@towncommon.org
DTSTART:20250906T154500Z
DTEND:20250906T163000Z
SUMMARY:Intro to Guitar (ages 6-9) - DEMO CLASS
DESCRIPTION:Tad Hitchcock\, instructor **This class will normally meet at 10:15am
  on Saturdays** 
 
 Sign up for this demo class:
  https://www.signupgenius.com/go/8050D49A4AB2F4-57457062-demo#/
LOCATION:Winchester Community Music School\, 407 Highland Avenue\, Winchester\,
  MA 01890
URL:https://www.winchestermusic.org/event/intro-to-guitar-ages-6-9-demo-cl
 ass-2/
CATEGORIES:Cultural\,Education
END:VEVENT
END:VCALENDAR
