BEGIN:VCALENDAR
VERSION:2.0
PRODID:-//Microsoft Corporation//Outlook 11.0 MIMEDIR//EN
METHOD:PUBLISH
BEGIN:VEVENT
CLASS:PUBLIC
DTSTAMP:20260420T044231Z
UID:10001143-1756915200-1756918800@www.winchestermusic.org-1776@towncommon.org
DTSTART:20250903T200000Z
DTEND:20250903T210000Z
SUMMARY:Intro to Percussion (ages 7-9) DEMO CLASS
DESCRIPTION:Carl Puglisi\, instructor 
 
 Sign up for this demo class:
  https://www.signupgenius.com/go/8050D49A4AB2F4-57457062-demo#/
LOCATION:Winchester Community Music School\, 407 Highland Avenue\, Winchester\,
  MA 01890
URL:https://www.winchestermusic.org/event/intro-to-percussion-ages-7-9-dem
 o-class/
CATEGORIES:Cultural\,Education
END:VEVENT
END:VCALENDAR
