BEGIN:VCALENDAR
VERSION:2.0
PRODID:-//Microsoft Corporation//Outlook 11.0 MIMEDIR//EN
METHOD:PUBLISH
BEGIN:VEVENT
CLASS:PUBLIC
DTSTAMP:20260420T013712Z
UID:10001142-1756915200-1756917900@www.winchestermusic.org-1776@towncommon.org
DTSTART:20250903T200000Z
DTEND:20250903T204500Z
SUMMARY:First Steps in Music (ages 3-5) - DEMO CLASS
DESCRIPTION:Lynn Rubin\, instructor **Regular class times for First Steps classes
  will be on Mondays at 3:15PM & 4PM** 
 
 Sign up for this demo class:
  https://www.signupgenius.com/go/8050D49A4AB2F4-57457062-demo#/
LOCATION:Winchester Community Music School\, 407 Highland Avenue\, Winchester\,
  MA 01890
URL:https://www.winchestermusic.org/event/first-steps-in-music-ages-3-5-de
 mo-class/
CATEGORIES:Cultural\,Education
END:VEVENT
END:VCALENDAR
