BEGIN:VCALENDAR
VERSION:2.0
PRODID:-//Microsoft Corporation//Outlook 11.0 MIMEDIR//EN
METHOD:PUBLISH
BEGIN:VEVENT
CLASS:PUBLIC
DTSTAMP:20260420T044454Z
UID:10001141-1756912500-1756915200@www.winchestermusic.org-1776@towncommon.org
DTSTART:20250903T191500Z
DTEND:20250903T200000Z
SUMMARY:Musical Beginnings (4 years old) DEMO CLASS
DESCRIPTION:Eiko Ishizuka\, instructor 
 
 Sign up for this demo class:
  https://www.signupgenius.com/go/8050D49A4AB2F4-57457062-demo#/
LOCATION:Winchester Community Music School\, 407 Highland Avenue\, Winchester\,
  MA 01890
URL:https://www.winchestermusic.org/event/musical-beginnings-4-years-old-d
 emo-class/
CATEGORIES:Cultural\,Education
END:VEVENT
END:VCALENDAR
