BEGIN:VCALENDAR
VERSION:2.0
PRODID:-//Microsoft Corporation//Outlook 11.0 MIMEDIR//EN
METHOD:PUBLISH
BEGIN:VEVENT
CLASS:PUBLIC
DTSTAMP:20260420T061554Z
UID:10001139-1756893600-1756897200@www.winchestermusic.org-1776@towncommon.org
DTSTART:20250903T140000Z
DTEND:20250903T150000Z
SUMMARY:People with Parkinson's Group (adults) - DEMO CLASS
DESCRIPTION:Shayla McDermott\, faculty 
 
 Sign up for this demo class: 
 
 https://www.signupgenius.com/go/8050D49A4AB2F4-57457062-demo#/
LOCATION:Winchester Community Music School\, 407 Highland Avenue\, Winchester\,
  MA 01890
URL:https://www.winchestermusic.org/event/people-with-parkinsons-group-adu
 lts-demo-class/
CATEGORIES:Cultural\,Education
END:VEVENT
END:VCALENDAR
