BEGIN:VCALENDAR
VERSION:2.0
PRODID:-//Microsoft Corporation//Outlook 11.0 MIMEDIR//EN
METHOD:PUBLISH
BEGIN:VEVENT
CLASS:PUBLIC
DTSTAMP:20260420T044151Z
UID:10001135-1756828800-1756831500@www.winchestermusic.org-1776@towncommon.org
DTSTART:20250902T200000Z
DTEND:20250902T204500Z
SUMMARY:Intro to Guitar Level I (ages 6-9) - DEMO CLASS
DESCRIPTION:Tad Hitchcock\, Faculty 
 
 Sign up for this demo class: 
 
 https://www.signupgenius.com/go/8050D49A4AB2F4-57457062-demo#/
LOCATION:Winchester Community Music School\, 407 Highland Avenue\, Winchester\,
  MA 01890
URL:https://www.winchestermusic.org/event/intro-to-guitar-level-i-demo-cla
 ss/
CATEGORIES:Cultural\,Education
END:VEVENT
END:VCALENDAR
