BEGIN:VCALENDAR
VERSION:2.0
PRODID:-//Microsoft Corporation//Outlook 11.0 MIMEDIR//EN
METHOD:PUBLISH
BEGIN:VEVENT
CLASS:PUBLIC
DTSTAMP:20260419T134514Z
UID:TCTF-1776606314@towncommon.org
DTSTART:20251013T140000Z
DTEND:20251013T160000Z
SUMMARY:Winchester's 5th Annual Indigenous Peoples' Day Celebration
DESCRIPTION:Winchester's 5th Annual Indigenous Peoples' Day Family Celebration is
  happening on Monday\, October 13\, from 10:00 am - 12:00 pm at
  Winchester Town Hall\, 71 Mount Vernon Street
 
 Starting at 10:00 am\, we'll have various activities and advocacy
  opportunities\, both for families with young children as well as for
  all lifelong learners.
 
 From 11-12\, you won't want to miss the Red Hawk Singers and Dancers
  interactive performance!
 
 We look forward to celebrating this year's IPD with you!
LOCATION:Winchester Town Hall\, 71 Mt. Vernon Street\, Winchester\, MA 01890
URL:https://nfsj.org/
IMAGE:https://findit.towncommon.org/sites/default/files/2025-10/Town%20hall%
 20location_0.png
CATEGORIES:Community\,Cultural\,Family
END:VEVENT
END:VCALENDAR
