BEGIN:VCALENDAR
VERSION:2.0
PRODID:-//Microsoft Corporation//Outlook 11.0 MIMEDIR//EN
METHOD:PUBLISH
BEGIN:VEVENT
CLASS:PUBLIC
DTSTAMP:20260425T122115Z
UID:11843-1777119675@towncommon.org
DTSTART:20250812T230000Z
DTEND:20250813T010000Z
SUMMARY:Conservation Commission Public Meeting Notice and Agenda
DESCRIPTION:
LOCATION:Winchester Town Hall\, 71 Mt. Vernon Street\, Winchester\, MA 01890
URL:https://www.winchester.us/calendar.aspx?EID=11843
CATEGORIES:Government\,Environment
END:VEVENT
END:VCALENDAR
