BEGIN:VCALENDAR
VERSION:2.0
PRODID:-//Microsoft Corporation//Outlook 11.0 MIMEDIR//EN
METHOD:PUBLISH
BEGIN:VEVENT
CLASS:PUBLIC
DTSTAMP:20260425T133527Z
UID:10001046-1749906000-1749909600@www.winchestermusic.org-1777@towncommon.org
DTSTART:20250614T170000Z
DTEND:20250614T180000Z
SUMMARY:Park Piano Studio Recital
DESCRIPTION:Piano Students of Dahee Park perform for family and friends. Nichols
  Performance Hall.
LOCATION:Winchester Community Music School\, 407 Highland Avenue\, Winchester\,
  MA 01890
URL:https://www.winchestermusic.org/event/park-piano-studio-recital-2/
CATEGORIES:Cultural\,Education
END:VEVENT
END:VCALENDAR
