BEGIN:VCALENDAR
VERSION:2.0
PRODID:-//Microsoft Corporation//Outlook 11.0 MIMEDIR//EN
METHOD:PUBLISH
BEGIN:VEVENT
CLASS:PUBLIC
DTSTAMP:20260425T134329Z
UID:10000995-1749582000-1749585600@www.winchestermusic.org-1777@towncommon.org
DTSTART:20250610T230000Z
DTEND:20250611T000000Z
SUMMARY:Reisdorf Piano Studio Recital
DESCRIPTION:Piano students of Connie Reisdorf perform for family and friends.
  Nichols Hall.
LOCATION:Winchester Community Music School\, 407 Highland Avenue\, Winchester\,
  MA 01890
URL:https://www.winchestermusic.org/event/reisdorf-piano-studio-recital-2/
CATEGORIES:Cultural\,Education
END:VEVENT
END:VCALENDAR
