BEGIN:VCALENDAR
VERSION:2.0
PRODID:-//Microsoft Corporation//Outlook 11.0 MIMEDIR//EN
METHOD:PUBLISH
BEGIN:VEVENT
CLASS:PUBLIC
DTSTAMP:20260425T133825Z
UID:10000770-1749340800-1749427199@www.winchestermusic.org-1777@towncommon.org
DTSTART:20250608T000000Z
DTEND:20250609T000000Z
SUMMARY:Makeup Day
DESCRIPTION:
LOCATION:Winchester Community Music School\, 407 Highland Avenue\, Winchester\,
  MA 01890
URL:https://www.winchestermusic.org/event/makeup-day-5/2025-06-08/
CATEGORIES:Cultural\,Education
END:VEVENT
END:VCALENDAR
