BEGIN:VCALENDAR
VERSION:2.0
PRODID:-//Microsoft Corporation//Outlook 11.0 MIMEDIR//EN
METHOD:PUBLISH
BEGIN:VEVENT
CLASS:PUBLIC
DTSTAMP:20260425T134300Z
UID:10001066-1749316500-1749320100@www.winchestermusic.org-1777@towncommon.org
DTSTART:20250607T211500Z
DTEND:20250607T221500Z
SUMMARY:Talroze Piano Studio Recital #1
DESCRIPTION:Piano students of Olga Talroze perform for family and friends. Nichols
  Hall
LOCATION:Winchester Community Music School\, 407 Highland Avenue\, Winchester\,
  MA 01890
URL:https://www.winchestermusic.org/event/talroze-piano-studio-recital-1/
CATEGORIES:Cultural\,Education
END:VEVENT
END:VCALENDAR
