BEGIN:VCALENDAR
VERSION:2.0
PRODID:-//Microsoft Corporation//Outlook 11.0 MIMEDIR//EN
METHOD:PUBLISH
BEGIN:VEVENT
CLASS:PUBLIC
DTSTAMP:20260425T134524Z
UID:10001085-1749286800-1749312000@www.winchestermusic.org-1777@towncommon.org
DTSTART:20250607T130000Z
DTEND:20250607T200000Z
SUMMARY:Winchester Town Day
DESCRIPTION:Come on down for some great music and lots of fun at Winchester Town
  Day! 
 
 WCMS will have its usual tent downtown--come listen to live acoustic
  music\, enter our raffle\, and pick up information on lessons\,
  classes\, and ensembles. Stay tuned for additional WCMS performance
  information. 
 
 Click here for the official Town Day schedule.
LOCATION:Winchester Community Music School\, 407 Highland Avenue\, Winchester\,
  MA 01890
URL:https://www.winchestermusic.org/event/winchester-town-day-2/
CATEGORIES:Cultural\,Education
END:VEVENT
END:VCALENDAR
