BEGIN:VCALENDAR
VERSION:2.0
PRODID:-//Microsoft Corporation//Outlook 11.0 MIMEDIR//EN
METHOD:PUBLISH
BEGIN:VEVENT
CLASS:PUBLIC
DTSTAMP:20260425T134854Z
UID:10001064-1749225600-1749229200@www.winchestermusic.org-1777@towncommon.org
DTSTART:20250606T200000Z
DTEND:20250606T210000Z
SUMMARY:Vavilov Viola and Violin Studio Recital
DESCRIPTION:Viola and violin students of Alex Vavilov perform for family and
  friends. Nichols Hall.
LOCATION:Winchester Community Music School\, 407 Highland Avenue\, Winchester\,
  MA 01890
URL:https://www.winchestermusic.org/event/vavilov-viola-and-violin-studio-
 recital-1/
CATEGORIES:Cultural\,Education
END:VEVENT
END:VCALENDAR
