BEGIN:VCALENDAR
VERSION:2.0
PRODID:-//Microsoft Corporation//Outlook 11.0 MIMEDIR//EN
METHOD:PUBLISH
BEGIN:VEVENT
CLASS:PUBLIC
DTSTAMP:20260425T134329Z
UID:10001039-1749150000-1749150000@www.winchestermusic.org-1777@towncommon.org
DTSTART:20250605T230000Z
DTEND:20250605T230000Z
SUMMARY:Puglisi Percussion Studio Recital
DESCRIPTION:Students of Carl Puglisi perform for family and friends. Nichols Hall.
LOCATION:Winchester Community Music School\, 407 Highland Avenue\, Winchester\,
  MA 01890
URL:https://www.winchestermusic.org/event/puglisi-percussion-studio-recita
 l-2/
CATEGORIES:Cultural\,Education
END:VEVENT
END:VCALENDAR
