BEGIN:VCALENDAR
VERSION:2.0
PRODID:-//Microsoft Corporation//Outlook 11.0 MIMEDIR//EN
METHOD:PUBLISH
BEGIN:VEVENT
CLASS:PUBLIC
DTSTAMP:20260423T091139Z
UID:4402-1747263600-1747270800@www.winchesterhistoricalsociety.@towncommon.org
DTSTART:20250514T230000Z
DTEND:20250515T010000Z
SUMMARY:An Armchair Tour of Winchester Women's History with Ellen Knight
DESCRIPTION:
LOCATION:Sanborn House\, 15 High Street\, Winchester\, MA 01890
URL:http://www.winchesterhistoricalsociety.org/event/an-armchair-tour-of-w
 inchester-womens-history-with-ellen-knight
CATEGORIES:Cultural
END:VEVENT
END:VCALENDAR
