BEGIN:VCALENDAR
VERSION:2.0
PRODID:-//Microsoft Corporation//Outlook 11.0 MIMEDIR//EN
METHOD:PUBLISH
BEGIN:VEVENT
CLASS:PUBLIC
DTSTAMP:20260425T134334Z
UID:10001068-1748714400-1748718000@www.winchestermusic.org-1777@towncommon.org
DTSTART:20250531T220000Z
DTEND:20250531T230000Z
SUMMARY:Kang Krueger Piano Studio Recital
DESCRIPTION:Piano students of Yerim Kang Krueger perform for family and friends.
  Nichols Hall.
LOCATION:Winchester Community Music School\, 407 Highland Avenue\, Winchester\,
  MA 01890
URL:https://www.winchestermusic.org/event/kang-krueger-piano-studio-recita
 l-3/
CATEGORIES:Cultural\,Education
END:VEVENT
END:VCALENDAR
