BEGIN:VCALENDAR
VERSION:2.0
PRODID:-//Microsoft Corporation//Outlook 11.0 MIMEDIR//EN
METHOD:PUBLISH
BEGIN:VEVENT
CLASS:PUBLIC
DTSTAMP:20260419T205517Z
UID:10001072-1748458800-1748462400@www.winchestermusic.org-1776@towncommon.org
DTSTART:20250528T230000Z
DTEND:20250529T000000Z
SUMMARY:Hitchcock Guitar Studio Recital
DESCRIPTION:Guitar Students of Tad Hitchcock perform for family and friends.
  Nichols Hall.
LOCATION:Winchester Community Music School\, 407 Highland Avenue\, Winchester\,
  MA 01890
URL:https://www.winchestermusic.org/event/hitchcock-guitar-studio-recital/
CATEGORIES:Cultural\,Education
END:VEVENT
END:VCALENDAR
