BEGIN:VCALENDAR
VERSION:2.0
PRODID:-//Microsoft Corporation//Outlook 11.0 MIMEDIR//EN
METHOD:PUBLISH
BEGIN:VEVENT
CLASS:PUBLIC
DTSTAMP:20260425T134300Z
UID:10000766-1748217600-1748303999@www.winchestermusic.org-1777@towncommon.org
DTSTART:20250526T000000Z
DTEND:20250527T000000Z
SUMMARY:WCMS Closed - Memorial Day
DESCRIPTION:
LOCATION:Winchester Community Music School\, 407 Highland Avenue\, Winchester\,
  MA 01890
URL:https://www.winchestermusic.org/event/wcms-closed-memorial-day/
CATEGORIES:Cultural\,Education
END:VEVENT
END:VCALENDAR
