BEGIN:VCALENDAR
VERSION:2.0
PRODID:-//Microsoft Corporation//Outlook 11.0 MIMEDIR//EN
METHOD:PUBLISH
BEGIN:VEVENT
CLASS:PUBLIC
DTSTAMP:20260425T135059Z
UID:10000991-1747495800-1747499400@www.winchestermusic.org-1777@towncommon.org
DTSTART:20250517T193000Z
DTEND:20250517T203000Z
SUMMARY:Kline Piano Studio Recital #2
DESCRIPTION:Piano students of Yoshiko Kline perform for family and friends.
  Nichols Hall.
LOCATION:Winchester Community Music School\, 407 Highland Avenue\, Winchester\,
  MA 01890
URL:https://www.winchestermusic.org/event/kline-piano-studio-recital-2-4/
CATEGORIES:Cultural\,Education
END:VEVENT
END:VCALENDAR
