BEGIN:VCALENDAR
VERSION:2.0
PRODID:-//Microsoft Corporation//Outlook 11.0 MIMEDIR//EN
METHOD:PUBLISH
BEGIN:VEVENT
CLASS:PUBLIC
DTSTAMP:20260420T014103Z
UID:10001036-1746882000-1746884700@www.winchestermusic.org-1776@towncommon.org
DTSTART:20250510T170000Z
DTEND:20250510T174500Z
SUMMARY:Ferro Flute Studio Recital
DESCRIPTION:Flute students of Celine Ferro perform for family and friends. Nichols
  Hall.
LOCATION:Winchester Community Music School\, 407 Highland Avenue\, Winchester\,
  MA 01890
URL:https://www.winchestermusic.org/event/ferro-flute-studio-recital/
CATEGORIES:Cultural\,Education
END:VEVENT
END:VCALENDAR
