BEGIN:VCALENDAR
VERSION:2.0
PRODID:-//Microsoft Corporation//Outlook 11.0 MIMEDIR//EN
METHOD:PUBLISH
BEGIN:VEVENT
CLASS:PUBLIC
DTSTAMP:20260425T040014Z
UID:10001006-1746206100-1746211500@www.winchestermusic.org-1777@towncommon.org
DTSTART:20250502T211500Z
DTEND:20250502T224500Z
SUMMARY:Summer Piano Festival Auditions
DESCRIPTION:Summer Piano Festival 2025: Monday\, July 7 - Friday\, July 11\,
  9:00-3:00 PM daily 
 
 For ages 8-14. Join us for five days of activities designed to bring
  pianists together in a fun\, interactive piano ensemble program.
  Participants enjoy the social aspects of playing in an ensemble with
  one another\, as well as learning the skills to play in a small group.
 
 Auditions are being held May 1\, 2\, and 3. 
 
 Learn more
LOCATION:Winchester Community Music School\, 407 Highland Avenue\, Winchester\,
  MA 01890
URL:https://www.winchestermusic.org/event/summer-piano-festival-auditions-
 2/
CATEGORIES:Cultural\,Education
END:VEVENT
END:VCALENDAR
