BEGIN:VCALENDAR
VERSION:2.0
PRODID:-//Microsoft Corporation//Outlook 11.0 MIMEDIR//EN
METHOD:PUBLISH
BEGIN:VEVENT
CLASS:PUBLIC
DTSTAMP:20260425T122539Z
UID:10000757-1745625600-1745711999@www.winchestermusic.org-1777@towncommon.org
DTSTART:20250426T000000Z
DTEND:20250427T000000Z
SUMMARY:WCMS Closed
DESCRIPTION:
LOCATION:Winchester Community Music School\, 407 Highland Avenue\, Winchester\,
  MA 01890
URL:https://www.winchestermusic.org/event/wcms-closed-11/
CATEGORIES:Cultural\,Education
END:VEVENT
END:VCALENDAR
