BEGIN:VCALENDAR
VERSION:2.0
PRODID:-//Microsoft Corporation//Outlook 11.0 MIMEDIR//EN
METHOD:PUBLISH
BEGIN:VEVENT
CLASS:PUBLIC
DTSTAMP:20260425T120715Z
UID:10001069-1743242400-1743256800@www.winchestermusic.org-1777@towncommon.org
DTSTART:20250329T140000Z
DTEND:20250329T180000Z
SUMMARY:Winchester Health & Wellness Fair
DESCRIPTION:Free admission--held at Winchester Town Hall 
 
 Join us for the Winchester Chamber's first-ever Health & Wellness Fair
  at Winchester Town Hall. Many local organizations will be
  participating with activities and information\, including music
  therapist Shayla McDermott from WCMS. 
 
 Check out the schedule of events and wave hello to two WCMS groups
  performing music at the event: 
 
 10:00-10:45 AM: Ukulele Ensemble Piineapple Posse
 
 1:15-2:00 PM: Faculty member Molly Tucker with her folk duo Molly &
  Casey
LOCATION:Winchester Community Music School\, 407 Highland Avenue\, Winchester\,
  MA 01890
URL:https://www.winchestermusic.org/event/winchester-health-wellness-fair/
CATEGORIES:Cultural\,Education
END:VEVENT
END:VCALENDAR
